BEGIN:VCALENDAR
VERSION:2.0
PRODID:-//Athlos Academy of Utah - ECPv6.15.18//NONSGML v1.0//EN
CALSCALE:GREGORIAN
METHOD:PUBLISH
X-WR-CALNAME:Athlos Academy of Utah
X-ORIGINAL-URL:https://athlosutah.org
X-WR-CALDESC:Events for Athlos Academy of Utah
REFRESH-INTERVAL;VALUE=DURATION:PT1H
X-Robots-Tag:noindex
X-PUBLISHED-TTL:PT1H
BEGIN:VTIMEZONE
TZID:America/Denver
BEGIN:DAYLIGHT
TZOFFSETFROM:-0700
TZOFFSETTO:-0600
TZNAME:MDT
DTSTART:20210314T090000
END:DAYLIGHT
BEGIN:STANDARD
TZOFFSETFROM:-0600
TZOFFSETTO:-0700
TZNAME:MST
DTSTART:20211107T080000
END:STANDARD
BEGIN:DAYLIGHT
TZOFFSETFROM:-0700
TZOFFSETTO:-0600
TZNAME:MDT
DTSTART:20220313T090000
END:DAYLIGHT
BEGIN:STANDARD
TZOFFSETFROM:-0600
TZOFFSETTO:-0700
TZNAME:MST
DTSTART:20221106T080000
END:STANDARD
BEGIN:DAYLIGHT
TZOFFSETFROM:-0700
TZOFFSETTO:-0600
TZNAME:MDT
DTSTART:20230312T090000
END:DAYLIGHT
BEGIN:STANDARD
TZOFFSETFROM:-0600
TZOFFSETTO:-0700
TZNAME:MST
DTSTART:20231105T080000
END:STANDARD
END:VTIMEZONE
BEGIN:VEVENT
DTSTART;VALUE=DATE:20220912
DTEND;VALUE=DATE:20220917
DTSTAMP:20260425T043456
CREATED:20220719T221309Z
LAST-MODIFIED:20220907T190702Z
UID:9287-1662940800-1663372799@athlosutah.org
SUMMARY:Kindness Week
DESCRIPTION:Kindness Week is an annual Athlos tradition where students\, staff and families highlight the value of spreading kindness to each other and our community.  \nDress up days are: \n\nMonday: Show off your uniqueness by wearing your favorite CRAZY SOCKS \n\nTuesday: Say HELLO to someone you have never met and wear YELLOW to show KINDNESS \n\nWednesday: Dress up in your favorite SUPERHERO shirt/outfit and show an act of kindness \n\nThursday: Protect the planet by picking up litter and wear GREEN/BLUE OR CAMOUFLAGE \n\nFriday: Be comfortable in your favorite PAJAMAS and dream about kindness\n\nDownload the PDF
URL:https://athlosutah.org/calendar/kindness-week/
LOCATION:Athlos Academy of Utah\, 12309 S. Mustang Trail Way\, Herriman\, UT
CATEGORIES:Community Events,School Events
ATTACH;FMTTYPE=image/png:https://athlosutah.org/wp-content/uploads/2022/07/Screenshot-2022-07-19-161047.png
ORGANIZER;CN="Athlos Academy of Utah":MAILTO:info@athlosutah.org
END:VEVENT
BEGIN:VEVENT
DTSTART;TZID=America/Denver:20220914T160000
DTEND;TZID=America/Denver:20220914T190000
DTSTAMP:20260425T043456
CREATED:20220831T182936Z
LAST-MODIFIED:20220831T183505Z
UID:9637-1663171200-1663182000@athlosutah.org
SUMMARY:Girls' Volleyball
DESCRIPTION:Girls’ Volleyball game away at Summit Draper.
URL:https://athlosutah.org/calendar/girls-volleyball-12/
LOCATION:Summit Academy Draper\, 13200 S. 1225 E.\, Draper\, UT\, 84020\, United States
CATEGORIES:School Events,Sports Calendar,Volleyball
ATTACH;FMTTYPE=image/jpeg:https://athlosutah.org/wp-content/uploads/2021/08/Girls-Volleyball-Banner_girls-volleyball.jpg
ORGANIZER;CN="Athlos Academy of Utah":MAILTO:info@athlosutah.org
END:VEVENT
END:VCALENDAR