BEGIN:VCALENDAR
VERSION:2.0
PRODID:-//Athlos Academy of Utah - ECPv6.15.18//NONSGML v1.0//EN
CALSCALE:GREGORIAN
METHOD:PUBLISH
X-ORIGINAL-URL:https://athlosutah.org
X-WR-CALDESC:Events for Athlos Academy of Utah
REFRESH-INTERVAL;VALUE=DURATION:PT1H
X-Robots-Tag:noindex
X-PUBLISHED-TTL:PT1H
BEGIN:VTIMEZONE
TZID:America/Denver
BEGIN:DAYLIGHT
TZOFFSETFROM:-0700
TZOFFSETTO:-0600
TZNAME:MDT
DTSTART:20190310T090000
END:DAYLIGHT
BEGIN:STANDARD
TZOFFSETFROM:-0600
TZOFFSETTO:-0700
TZNAME:MST
DTSTART:20191103T080000
END:STANDARD
BEGIN:DAYLIGHT
TZOFFSETFROM:-0700
TZOFFSETTO:-0600
TZNAME:MDT
DTSTART:20200308T090000
END:DAYLIGHT
BEGIN:STANDARD
TZOFFSETFROM:-0600
TZOFFSETTO:-0700
TZNAME:MST
DTSTART:20201101T080000
END:STANDARD
BEGIN:DAYLIGHT
TZOFFSETFROM:-0700
TZOFFSETTO:-0600
TZNAME:MDT
DTSTART:20210314T090000
END:DAYLIGHT
BEGIN:STANDARD
TZOFFSETFROM:-0600
TZOFFSETTO:-0700
TZNAME:MST
DTSTART:20211107T080000
END:STANDARD
END:VTIMEZONE
BEGIN:VEVENT
DTSTART;VALUE=DATE:20200605
DTEND;VALUE=DATE:20200606
DTSTAMP:20260425T044142
CREATED:20190318T231847Z
LAST-MODIFIED:20190318T231847Z
UID:3485-1591315200-1591401599@athlosutah.org
SUMMARY:Last Day of School
DESCRIPTION:
URL:https://athlosutah.org/calendar/last-day-2020/
CATEGORIES:Official School Calendar
ATTACH;FMTTYPE=image/png:https://athlosutah.org/wp-content/uploads/2018/09/Last_Day_of_School.png
END:VEVENT
BEGIN:VEVENT
DTSTART;VALUE=DATE:20200605
DTEND;VALUE=DATE:20200606
DTSTAMP:20260425T044142
CREATED:20190320T185749Z
LAST-MODIFIED:20190320T185911Z
UID:3500-1591315200-1591401599@athlosutah.org
SUMMARY:End of Quarter 4
DESCRIPTION:Quarter 4:\n3/30/20–6/5/20 \n 
URL:https://athlosutah.org/calendar/2019-20-end-of-quarter-4/
CATEGORIES:Official School Calendar
END:VEVENT
BEGIN:VEVENT
DTSTART;TZID=America/Denver:20200605T120000
DTEND;TZID=America/Denver:20200605T140000
DTSTAMP:20260425T044142
CREATED:20200527T211238Z
LAST-MODIFIED:20200527T212011Z
UID:5611-1591358400-1591365600@athlosutah.org
SUMMARY:Socially Distant Ice Cream Social
DESCRIPTION:Come join us for a Socially Distant Ice Cream Social on Friday\, June 5 from 12 to 2 p.m. in the Athlos Academy parking lot. This event is open to Athlos students and all interested families. \nWe will be featuring ice-cream from The Scoop\, a locally owned ice-cream cafe. Our athletic movement coaches will be providing social distance games and activities. \nAthlos Academy of Utah is currently accepting enrollment applications for the 2020-2021 school year. \nAthlos students experience an education that demands rigorous academic performance\, instruction in healthy diet and athletic movement\, and an emphasis on building character. \nAthlos Academy is a tuition-free\, public charter school serving students in grades K-8. Students at Athlos learn to think critically\, build essential character traits for success and develop lifelong healthy body habits. We also promote regular family and community engagement. \nApply today!
URL:https://athlosutah.org/calendar/socially-distant-ice-cream-social/
LOCATION:Athlos Academy of Utah\, 12309 S. Mustang Trail Way\, Herriman\, UT
CATEGORIES:Community Events,Official School Calendar,School Events
ATTACH;FMTTYPE=image/jpeg:https://athlosutah.org/wp-content/uploads/2020/05/ice-cream-social.jpg
ORGANIZER;CN="Athlos Academy of Utah":MAILTO:info@athlosutah.org
END:VEVENT
END:VCALENDAR