BEGIN:VCALENDAR
VERSION:2.0
PRODID:-//Athlos Academy of Utah - ECPv6.15.18//NONSGML v1.0//EN
CALSCALE:GREGORIAN
METHOD:PUBLISH
X-WR-CALNAME:Athlos Academy of Utah
X-ORIGINAL-URL:https://athlosutah.org
X-WR-CALDESC:Events for Athlos Academy of Utah
REFRESH-INTERVAL;VALUE=DURATION:PT1H
X-Robots-Tag:noindex
X-PUBLISHED-TTL:PT1H
BEGIN:VTIMEZONE
TZID:America/Denver
BEGIN:DAYLIGHT
TZOFFSETFROM:-0700
TZOFFSETTO:-0600
TZNAME:MDT
DTSTART:20180311T090000
END:DAYLIGHT
BEGIN:STANDARD
TZOFFSETFROM:-0600
TZOFFSETTO:-0700
TZNAME:MST
DTSTART:20181104T080000
END:STANDARD
BEGIN:DAYLIGHT
TZOFFSETFROM:-0700
TZOFFSETTO:-0600
TZNAME:MDT
DTSTART:20190310T090000
END:DAYLIGHT
BEGIN:STANDARD
TZOFFSETFROM:-0600
TZOFFSETTO:-0700
TZNAME:MST
DTSTART:20191103T080000
END:STANDARD
BEGIN:DAYLIGHT
TZOFFSETFROM:-0700
TZOFFSETTO:-0600
TZNAME:MDT
DTSTART:20200308T090000
END:DAYLIGHT
BEGIN:STANDARD
TZOFFSETFROM:-0600
TZOFFSETTO:-0700
TZNAME:MST
DTSTART:20201101T080000
END:STANDARD
END:VTIMEZONE
BEGIN:VEVENT
DTSTART;TZID=America/Denver:20190202T110000
DTEND;TZID=America/Denver:20190202T140000
DTSTAMP:20260422T053350
CREATED:20190104T011928Z
LAST-MODIFIED:20190129T181319Z
UID:2885-1549105200-1549116000@athlosutah.org
SUMMARY:Kindergarten Enrollment Open House (for prospective students)
DESCRIPTION:Join us for an informational open house event for prospective Athlos students going into kindergarten for the 2019–2020 school year. Learn about our unique education model\, which features Prepared Mind\, Healthy Body\, and Performance Character. \nQuestions? Learn more about the enrollment process or email info@athlosutah.org.
URL:https://athlosutah.org/calendar/kindergarten-open-house-2-2-19/
LOCATION:Athlos Academy of Utah\, 12309 S. Mustang Trail Way\, Herriman\, UT
CATEGORIES:Community Events,Enrollment Events,School Events
ATTACH;FMTTYPE=image/png:https://athlosutah.org/wp-content/uploads/2019/01/AAU_Open_House_Slider_2-2-19.png
ORGANIZER;CN="Athlos Academy of Utah":MAILTO:info@athlosutah.org
END:VEVENT
BEGIN:VEVENT
DTSTART;TZID=America/Denver:20190208T090000
DTEND;TZID=America/Denver:20190208T093000
DTSTAMP:20260422T053350
CREATED:20181024T024613Z
LAST-MODIFIED:20190129T180859Z
UID:2308-1549616400-1549618200@athlosutah.org
SUMMARY:Principal's Pride
DESCRIPTION:Principal’s Pride is a program alongside the PTO. Every teacher chooses one student each month that is showing all 12 Performance Character traits\, has great attendance\,\nand has few or no tardies. Each month\, the chosen students get to enjoy breakfast from Chick-fil-A with Mr. Herr! They will also receive a certificate to showcase their great work! \nStudent recipients of the Principal’s Pride Award meet in the cafeteria.
URL:https://athlosutah.org/calendar/principals-pride-feb-19/
LOCATION:UT
CATEGORIES:School Events
ATTACH;FMTTYPE=image/png:https://athlosutah.org/wp-content/uploads/2018/10/principals-pride.png
END:VEVENT
BEGIN:VEVENT
DTSTART;TZID=America/Denver:20190212T090000
DTEND;TZID=America/Denver:20190212T120000
DTSTAMP:20260422T053350
CREATED:20190212T165050Z
LAST-MODIFIED:20190212T165527Z
UID:3181-1549962000-1549972800@athlosutah.org
SUMMARY:Charter Day on the Hill
DESCRIPTION:Students Leaders from Athlos Academy of Utah will be participating in Charter Day on the Hill at the Capitol. \nLearn more: www.utahcharters.org/charterdayonthehill \n 
URL:https://athlosutah.org/calendar/charter-on-the-hill-2019/
LOCATION:UT
CATEGORIES:Community Events,School Events
ATTACH;FMTTYPE=image/png:https://athlosutah.org/wp-content/uploads/2019/02/img_stkpic_1elsm3.png
END:VEVENT
END:VCALENDAR