BEGIN:VCALENDAR
VERSION:2.0
PRODID:-//Athlos Academy of Utah - ECPv6.15.18//NONSGML v1.0//EN
CALSCALE:GREGORIAN
METHOD:PUBLISH
X-WR-CALNAME:Athlos Academy of Utah
X-ORIGINAL-URL:https://athlosutah.org
X-WR-CALDESC:Events for Athlos Academy of Utah
REFRESH-INTERVAL;VALUE=DURATION:PT1H
X-Robots-Tag:noindex
X-PUBLISHED-TTL:PT1H
BEGIN:VTIMEZONE
TZID:America/Denver
BEGIN:DAYLIGHT
TZOFFSETFROM:-0700
TZOFFSETTO:-0600
TZNAME:MDT
DTSTART:20240310T090000
END:DAYLIGHT
BEGIN:STANDARD
TZOFFSETFROM:-0600
TZOFFSETTO:-0700
TZNAME:MST
DTSTART:20241103T080000
END:STANDARD
BEGIN:DAYLIGHT
TZOFFSETFROM:-0700
TZOFFSETTO:-0600
TZNAME:MDT
DTSTART:20250309T090000
END:DAYLIGHT
BEGIN:STANDARD
TZOFFSETFROM:-0600
TZOFFSETTO:-0700
TZNAME:MST
DTSTART:20251102T080000
END:STANDARD
BEGIN:DAYLIGHT
TZOFFSETFROM:-0700
TZOFFSETTO:-0600
TZNAME:MDT
DTSTART:20260308T090000
END:DAYLIGHT
BEGIN:STANDARD
TZOFFSETFROM:-0600
TZOFFSETTO:-0700
TZNAME:MST
DTSTART:20261101T080000
END:STANDARD
END:VTIMEZONE
BEGIN:VEVENT
DTSTART;VALUE=DATE:20250108
DTEND;VALUE=DATE:20250109
DTSTAMP:20260422T052904
CREATED:20240926T195312Z
LAST-MODIFIED:20240926T195312Z
UID:11641-1736294400-1736380799@athlosutah.org
SUMMARY:Play Rehearsals Start
DESCRIPTION:
URL:https://athlosutah.org/calendar/play-rehearsals-start/
LOCATION:Athlos Academy of Utah\, 12309 S. Mustang Trail Way\, Herriman\, UT
CATEGORIES:School Events
ATTACH;FMTTYPE=image/jpeg:https://athlosutah.org/wp-content/uploads/2022/05/Announcement_red-1.jpg
ORGANIZER;CN="Athlos Academy of Utah":MAILTO:info@athlosutah.org
END:VEVENT
BEGIN:VEVENT
DTSTART;TZID=America/Denver:20250124T133000
DTEND;TZID=America/Denver:20250124T160000
DTSTAMP:20260422T052904
CREATED:20240926T195424Z
LAST-MODIFIED:20240926T195424Z
UID:11642-1737725400-1737734400@athlosutah.org
SUMMARY:Health Fair @ 1:30-4 p.m.
DESCRIPTION:
URL:https://athlosutah.org/calendar/health-fair-130-4-p-m/
LOCATION:Athlos Academy of Utah\, 12309 S. Mustang Trail Way\, Herriman\, UT
CATEGORIES:School Events
ATTACH;FMTTYPE=image/png:https://athlosutah.org/wp-content/uploads/2019/05/social_student-recruitment_Announcement_Aqua.png
ORGANIZER;CN="Athlos Academy of Utah":MAILTO:info@athlosutah.org
END:VEVENT
BEGIN:VEVENT
DTSTART;TZID=America/Denver:20250131T120000
DTEND;TZID=America/Denver:20250131T130000
DTSTAMP:20260422T052904
CREATED:20250115T183711Z
LAST-MODIFIED:20250115T183711Z
UID:11784-1738324800-1738328400@athlosutah.org
SUMMARY:PTO - Duct Tape the Principal Fundraiser
DESCRIPTION:It’s the PTO’s 3rd annual Duct Tape the Principal Fundraiser New on January 31 at 12 p.m. in the Athlos gym. Come tape Coach Morgan too! Help us raise money to buy a water bottle refill station to go in the gym! Students may bring in cash\, or parents may pay online using Venmo or a debit/credit card. See the PTO page for payment links.
URL:https://athlosutah.org/calendar/pto-duct-tape-the-principal-fundraiser/
LOCATION:Athlos Academy of Utah\, 12309 S. Mustang Trail Way\, Herriman\, UT
CATEGORIES:PTO Event,School Events
ATTACH;FMTTYPE=image/jpeg:https://athlosutah.org/wp-content/uploads/2022/09/Calendar-Graphics_PTO-FB-Web-Announcement.jpg
ORGANIZER;CN="Athlos Academy of Utah":MAILTO:info@athlosutah.org
END:VEVENT
END:VCALENDAR